BEGIN:VCALENDAR
VERSION:2.0
PRODID:-//Kulturcheck - ECPv6.1.3//NONSGML v1.0//EN
CALSCALE:GREGORIAN
METHOD:PUBLISH
X-ORIGINAL-URL:https://kulturcheck.at
X-WR-CALDESC:Veranstaltungen im Kulturcheck
REFRESH-INTERVAL;VALUE=DURATION:PT1H
X-Robots-Tag:noindex
X-PUBLISHED-TTL:PT1H
BEGIN:VTIMEZONE
TZID:Europe/Berlin
BEGIN:DAYLIGHT
TZOFFSETFROM:+0100
TZOFFSETTO:+0200
TZNAME:CEST
DTSTART:20180325T010000
END:DAYLIGHT
BEGIN:STANDARD
TZOFFSETFROM:+0200
TZOFFSETTO:+0100
TZNAME:CET
DTSTART:20181028T010000
END:STANDARD
BEGIN:DAYLIGHT
TZOFFSETFROM:+0100
TZOFFSETTO:+0200
TZNAME:CEST
DTSTART:20190331T010000
END:DAYLIGHT
BEGIN:STANDARD
TZOFFSETFROM:+0200
TZOFFSETTO:+0100
TZNAME:CET
DTSTART:20191027T010000
END:STANDARD
BEGIN:DAYLIGHT
TZOFFSETFROM:+0100
TZOFFSETTO:+0200
TZNAME:CEST
DTSTART:20200329T010000
END:DAYLIGHT
BEGIN:STANDARD
TZOFFSETFROM:+0200
TZOFFSETTO:+0100
TZNAME:CET
DTSTART:20201025T010000
END:STANDARD
END:VTIMEZONE
BEGIN:VEVENT
DTSTART;TZID=Europe/Berlin:20180504T100000
DTEND;TZID=Europe/Berlin:20190102T180000
DTSTAMP:20260425T224124
CREATED:20180821T161054Z
LAST-MODIFIED:20180821T161054Z
UID:454-1525428000-1546452000@kulturcheck.at
SUMMARY:Die 90er Jahre
DESCRIPTION:
URL:https://kulturcheck.at/event/die-90er-jahre/
LOCATION:Musa\, Felderstrasse 6-8\, 1010 Wien\, Österreich
ATTACH;FMTTYPE=image/png:https://kulturcheck.at/wp-content/uploads/2018/06/Kulturcheck_Logo.png
END:VEVENT
BEGIN:VEVENT
DTSTART;TZID=Europe/Berlin:20180802T100000
DTEND;TZID=Europe/Berlin:20190331T180000
DTSTAMP:20260425T224124
CREATED:20180822T110840Z
LAST-MODIFIED:20180822T110840Z
UID:462-1533204000-1554055200@kulturcheck.at
SUMMARY:Contemporary Art\, Warhol bis Richter
DESCRIPTION:
URL:https://kulturcheck.at/event/contemporary-art-warhol-bis-richter/
LOCATION:Albertina\, Albertinapl.1\, Wien\, 1010\, Österreich
ATTACH;FMTTYPE=image/png:https://kulturcheck.at/wp-content/uploads/2018/06/Kulturcheck_Logo.png
END:VEVENT
BEGIN:VEVENT
DTSTART;TZID=Europe/Berlin:20180921T080000
DTEND;TZID=Europe/Berlin:20190106T180000
DTSTAMP:20260425T224124
CREATED:20180921T140048Z
LAST-MODIFIED:20180921T140048Z
UID:683-1537516800-1546797600@kulturcheck.at
SUMMARY:Claude Monet
DESCRIPTION:
URL:https://kulturcheck.at/event/claude-monet/
LOCATION:Albertina\, Albertinapl.1\, Wien\, 1010\, Österreich
ATTACH;FMTTYPE=image/png:https://kulturcheck.at/wp-content/uploads/2018/06/Kulturcheck_Logo.png
END:VEVENT
BEGIN:VEVENT
DTSTART;TZID=Europe/Berlin:20181031T193000
DTEND;TZID=Europe/Berlin:20181031T220000
DTSTAMP:20260425T224124
CREATED:20180822T150847Z
LAST-MODIFIED:20180822T150847Z
UID:425-1541014200-1541023200@kulturcheck.at
SUMMARY:L'elisir d'amore\, Gaetano Donizetti (Oper)
DESCRIPTION:Dirigentin: Speranza Scappucci \nAuf der Bühne zu sehen in den Rollen: \nAdina: Aida Garifullina\nNemorino: Benjamin Bernheim\nBelcore: Orhan Yildiz\nDoktor Dulcamara: Paolo Rumetz \n 
URL:https://kulturcheck.at/event/lelisir-damore-gaetano-donizetti-oper/
LOCATION:Wiener Staatsoper\, Opernring 2\, A-1010 Wien\, Österreich
ATTACH;FMTTYPE=image/png:https://kulturcheck.at/wp-content/uploads/2018/06/Kulturcheck_Logo.png
END:VEVENT
BEGIN:VEVENT
DTSTART;TZID=Europe/Berlin:20181120T193000
DTEND;TZID=Europe/Berlin:20181120T220000
DTSTAMP:20260425T224124
CREATED:20180920T123448Z
LAST-MODIFIED:20180920T123448Z
UID:671-1542742200-1542751200@kulturcheck.at
SUMMARY:Great Talent
DESCRIPTION:Programm: \nFranz Schubert\nOuverture D-Dur «im italienischen Stile» D 590 (1817) \nWolfgang Amadeus Mozart\nKonzert für Violine und Orchester G-Dur K 216 (1775) \nLudwig van Beethoven\nSymphonie Nr. 1 C-Dur op. 21 (1799-1800) \n\nVorverkauf für Mitglieder ab 1. Oktober\, allgemein ab 8. Oktober 2018
URL:https://kulturcheck.at/event/great-talent/
LOCATION:Wiener Konzerthaus\, Lothringerstraße 20\, 1030 Wien\, Österreich
ATTACH;FMTTYPE=image/jpeg:https://kulturcheck.at/wp-content/uploads/2018/09/tjeknavorian.jpg
END:VEVENT
BEGIN:VEVENT
DTSTART;TZID=Europe/Berlin:20190126T193000
DTEND;TZID=Europe/Berlin:20190126T220000
DTSTAMP:20260425T224124
CREATED:20180822T150807Z
LAST-MODIFIED:20180822T150807Z
UID:421-1548531000-1548540000@kulturcheck.at
SUMMARY:Martin Grubinger meets Yuja Wang
DESCRIPTION:Interpreten\nYuja Wang\, Klavier\nMartin Grubinger\, Percussion\nThe Percussive Planet Ensemble\nMartin Grubinger sen.\, Percussion\nLeonard Schmidinger\, Percussion\nAlexander Georgiev\, Percussion \n 
URL:https://kulturcheck.at/event/martin-grubinger-meets-yuja-wang/
LOCATION:Wiener Konzerthaus\, Lothringerstraße 20\, 1030 Wien\, Österreich
ATTACH;FMTTYPE=image/png:https://kulturcheck.at/wp-content/uploads/2018/06/Kulturcheck_Logo.png
END:VEVENT
BEGIN:VEVENT
DTSTART;TZID=Europe/Berlin:20190129T100000
DTEND;TZID=Europe/Berlin:20190407T180000
DTSTAMP:20260425T224124
CREATED:20190129T100904Z
LAST-MODIFIED:20190129T100904Z
UID:1548-1548756000-1554660000@kulturcheck.at
SUMMARY:Wo die Dinge wohnen
DESCRIPTION:Das Phänomen Selfstorage.
URL:https://kulturcheck.at/event/wo-die-dinge-wohnen/
LOCATION:Musa\, Felderstrasse 6-8\, 1010 Wien\, Österreich
ATTACH;FMTTYPE=image/png:https://kulturcheck.at/wp-content/uploads/2018/06/Kulturcheck_Logo.png
END:VEVENT
BEGIN:VEVENT
DTSTART;TZID=Europe/Berlin:20190129T100000
DTEND;TZID=Europe/Berlin:20190422T180000
DTSTAMP:20260425T224124
CREATED:20190129T095213Z
LAST-MODIFIED:20190129T095213Z
UID:1540-1548756000-1555956000@kulturcheck.at
SUMMARY:Koloman Moser
DESCRIPTION:
URL:https://kulturcheck.at/event/koloman-moser/
LOCATION:MAK\, Stubenring 5\, Wien\, 10109\, Österreich
ATTACH;FMTTYPE=image/png:https://kulturcheck.at/wp-content/uploads/2018/06/Kulturcheck_Logo.png
END:VEVENT
BEGIN:VEVENT
DTSTART;TZID=Europe/Berlin:20190129T100000
DTEND;TZID=Europe/Berlin:20190428T180000
DTSTAMP:20260425T224124
CREATED:20190129T095525Z
LAST-MODIFIED:20190129T095525Z
UID:1542-1548756000-1556474400@kulturcheck.at
SUMMARY:Von Waldmüller bis Schindler
DESCRIPTION:Verborgene Schätze II
URL:https://kulturcheck.at/event/von-waldmueller-bis-schindler/
LOCATION:Leopold Museum\, Museums Quartier Wien\, Wien\, 1010\, Österreich
ATTACH;FMTTYPE=image/png:https://kulturcheck.at/wp-content/uploads/2018/06/Kulturcheck_Logo.png
END:VEVENT
BEGIN:VEVENT
DTSTART;TZID=Europe/Berlin:20190129T100000
DTEND;TZID=Europe/Berlin:20190428T190000
DTSTAMP:20260425T224124
CREATED:20190129T100036Z
LAST-MODIFIED:20190129T100036Z
UID:1544-1548756000-1556478000@kulturcheck.at
SUMMARY:Ernst Caramelle
DESCRIPTION:
URL:https://kulturcheck.at/event/ernst-caramelle/
LOCATION:Mumok\, Museumsplatz 1\, 1010 Wien\, Wien\, 1010\, Österreich
ATTACH;FMTTYPE=image/png:https://kulturcheck.at/wp-content/uploads/2018/06/Kulturcheck_Logo.png
END:VEVENT
BEGIN:VEVENT
DTSTART;TZID=Europe/Berlin:20190129T100000
DTEND;TZID=Europe/Berlin:20190630T180000
DTSTAMP:20260425T224124
CREATED:20190129T094650Z
LAST-MODIFIED:20190129T094650Z
UID:1535-1548756000-1561917600@kulturcheck.at
SUMMARY:Bruch und Kontinuität
DESCRIPTION:Das Schicksal des habsburgischen Erbes nach 1918.
URL:https://kulturcheck.at/event/bruch-und-kontinuitaet/
LOCATION:Hofmobiliendepot\, Andreasgasse 7\, 1070\, Wien\, Wien\, 1070\, Österreich
ATTACH;FMTTYPE=image/png:https://kulturcheck.at/wp-content/uploads/2018/06/Kulturcheck_Logo.png
END:VEVENT
BEGIN:VEVENT
DTSTART;TZID=Europe/Berlin:20190129T100000
DTEND;TZID=Europe/Berlin:20190825T180000
DTSTAMP:20260425T224124
CREATED:20190129T094105Z
LAST-MODIFIED:20190129T094105Z
UID:1532-1548756000-1566756000@kulturcheck.at
SUMMARY:Zeig mir deine Wunde
DESCRIPTION:
URL:https://kulturcheck.at/event/zeig-mir-deine-wunde/
LOCATION:Dom Museum\, Stephansplatz 6\, 1010 Wien\, Wien\, 1010\, Österreich
ATTACH;FMTTYPE=image/png:https://kulturcheck.at/wp-content/uploads/2018/06/Kulturcheck_Logo.png
END:VEVENT
BEGIN:VEVENT
DTSTART;TZID=Europe/Berlin:20190215T100000
DTEND;TZID=Europe/Berlin:20190623T180000
DTSTAMP:20260425T224124
CREATED:20190129T092912Z
LAST-MODIFIED:20190129T092912Z
UID:1529-1550224800-1561312800@kulturcheck.at
SUMMARY:Flying High
DESCRIPTION:Künstlerinnen der Art Brut!
URL:https://kulturcheck.at/event/flying-high/
LOCATION:Bank Austria Kunstforum\, Freyung 8\, 1010 Wien\, Wien\, 1010\, Österreich
ATTACH;FMTTYPE=image/png:https://kulturcheck.at/wp-content/uploads/2018/06/Kulturcheck_Logo.png
END:VEVENT
BEGIN:VEVENT
DTSTART;TZID=Europe/Berlin:20190217T100000
DTEND;TZID=Europe/Berlin:20190609T180000
DTSTAMP:20260425T224124
CREATED:20190217T115034Z
LAST-MODIFIED:20190217T120055Z
UID:1716-1550397600-1560103200@kulturcheck.at
SUMMARY:Rubens bis Makart
DESCRIPTION:
URL:https://kulturcheck.at/event/flying-high-kuenstlerinnen-der-art-brut/
LOCATION:Albertina\, Albertinapl.1\, Wien\, 1010\, Österreich
ATTACH;FMTTYPE=image/png:https://kulturcheck.at/wp-content/uploads/2018/06/Kulturcheck_Logo.png
END:VEVENT
BEGIN:VEVENT
DTSTART;TZID=Europe/Berlin:20190325T080000
DTEND;TZID=Europe/Berlin:20190519T170000
DTSTAMP:20260425T224124
CREATED:20190325T144607Z
LAST-MODIFIED:20190325T144607Z
UID:1916-1553500800-1558285200@kulturcheck.at
SUMMARY:Künstlerinnen in Wien 1900-1938
DESCRIPTION:
URL:https://kulturcheck.at/event/kuenstlerinnen-in-wien-1900-1938/
ATTACH;FMTTYPE=image/png:https://kulturcheck.at/wp-content/uploads/2018/06/Kulturcheck_Logo.png
END:VEVENT
BEGIN:VEVENT
DTSTART;TZID=Europe/Berlin:20190325T080000
DTEND;TZID=Europe/Berlin:20190526T170000
DTSTAMP:20260425T224124
CREATED:20190325T144215Z
LAST-MODIFIED:20190325T144215Z
UID:1913-1553500800-1558890000@kulturcheck.at
SUMMARY:Die Sammlungen Liechtenstein
DESCRIPTION:
URL:https://kulturcheck.at/event/die-sammlungen-liechtenstein/
LOCATION:Albertina\, Albertinapl.1\, Wien\, 1010\, Österreich
ATTACH;FMTTYPE=image/png:https://kulturcheck.at/wp-content/uploads/2018/06/Kulturcheck_Logo.png
END:VEVENT
BEGIN:VEVENT
DTSTART;TZID=Europe/Berlin:20190325T080000
DTEND;TZID=Europe/Berlin:20190630T170000
DTSTAMP:20260425T224124
CREATED:20190325T145038Z
LAST-MODIFIED:20190325T145038Z
UID:1918-1553500800-1561914000@kulturcheck.at
SUMMARY:Mark Rothko
DESCRIPTION:
URL:https://kulturcheck.at/event/mark-rothko/
LOCATION:Kunsthistorisches Museum Wien\, Maria Theresien Platz\, 1010 Wien
ATTACH;FMTTYPE=image/png:https://kulturcheck.at/wp-content/uploads/2018/06/Kulturcheck_Logo.png
END:VEVENT
BEGIN:VEVENT
DTSTART;TZID=Europe/Berlin:20190325T080000
DTEND;TZID=Europe/Berlin:20191103T170000
DTSTAMP:20260425T224124
CREATED:20190325T145434Z
LAST-MODIFIED:20190325T145434Z
UID:1921-1553500800-1572800400@kulturcheck.at
SUMMARY:Kaiser Maximilian I
DESCRIPTION:
URL:https://kulturcheck.at/event/kaiser-maximilian-i/
LOCATION:Österreichische Nationalbibliothek\, Josefsplatz 1\, 1010 Wien
ATTACH;FMTTYPE=image/png:https://kulturcheck.at/wp-content/uploads/2018/06/Kulturcheck_Logo.png
END:VEVENT
BEGIN:VEVENT
DTSTART;TZID=Europe/Berlin:20190531T080000
DTEND;TZID=Europe/Berlin:20190708T180000
DTSTAMP:20260425T224124
CREATED:20190531T080129Z
LAST-MODIFIED:20190531T080129Z
UID:2445-1559289600-1562608800@kulturcheck.at
SUMMARY:Oskar Kokoschka
DESCRIPTION:
URL:https://kulturcheck.at/event/oskar-kokoschka/
LOCATION:Leopold Museum\, Museums Quartier Wien\, Wien\, 1010\, Österreich
ATTACH;FMTTYPE=image/png:https://kulturcheck.at/wp-content/uploads/2018/06/Kulturcheck_Logo.png
END:VEVENT
BEGIN:VEVENT
DTSTART;TZID=Europe/Berlin:20190531T080000
DTEND;TZID=Europe/Berlin:20190811T180000
DTSTAMP:20260425T224124
CREATED:20190531T074946Z
LAST-MODIFIED:20190531T074946Z
UID:2438-1559289600-1565546400@kulturcheck.at
SUMMARY:Hermann Nitsch
DESCRIPTION:
URL:https://kulturcheck.at/event/hermann-nitsch/
LOCATION:Albertina\, Albertinapl.1\, Wien\, 1010\, Österreich
ATTACH;FMTTYPE=image/png:https://kulturcheck.at/wp-content/uploads/2018/06/Kulturcheck_Logo.png
END:VEVENT
BEGIN:VEVENT
DTSTART;TZID=Europe/Berlin:20190531T080000
DTEND;TZID=Europe/Berlin:20190818T180000
DTSTAMP:20260425T224124
CREATED:20190531T075222Z
LAST-MODIFIED:20190531T075402Z
UID:2440-1559289600-1566151200@kulturcheck.at
SUMMARY:F.X.Messerschmidt
DESCRIPTION:
URL:https://kulturcheck.at/event/f-x-messerschmidt/
LOCATION:Unteres Belvedere\, Rennweg 6A\, 1030 Wien\, Österreich
ATTACH;FMTTYPE=image/png:https://kulturcheck.at/wp-content/uploads/2018/06/Kulturcheck_Logo.png
END:VEVENT
BEGIN:VEVENT
DTSTART;TZID=Europe/Berlin:20190531T080000
DTEND;TZID=Europe/Berlin:20191020T180000
DTSTAMP:20260425T224124
CREATED:20190531T075846Z
LAST-MODIFIED:20190531T075846Z
UID:2442-1559289600-1571594400@kulturcheck.at
SUMMARY:Arik Brauer
DESCRIPTION:
URL:https://kulturcheck.at/event/arik-brauer/
LOCATION:Jüdisches Museum\, Dortheergasse 11\, 1010 Wien\, Österreich
ATTACH;FMTTYPE=image/png:https://kulturcheck.at/wp-content/uploads/2018/06/Kulturcheck_Logo.png
END:VEVENT
BEGIN:VEVENT
DTSTART;TZID=Europe/Berlin:20190531T080000
DTEND;TZID=Europe/Berlin:20191021T180000
DTSTAMP:20260425T224124
CREATED:20190531T080307Z
LAST-MODIFIED:20190531T080307Z
UID:2447-1559289600-1571680800@kulturcheck.at
SUMMARY:Olga Wisinger - Florian
DESCRIPTION:
URL:https://kulturcheck.at/event/olga-wisinger-florian/
LOCATION:Leopold Museum\, Museums Quartier Wien\, Wien\, 1010\, Österreich
ATTACH;FMTTYPE=image/png:https://kulturcheck.at/wp-content/uploads/2018/06/Kulturcheck_Logo.png
END:VEVENT
BEGIN:VEVENT
DTSTART;TZID=Europe/Berlin:20190531T080000
DTEND;TZID=Europe/Berlin:20191026T180000
DTSTAMP:20260425T224124
CREATED:20190531T080415Z
LAST-MODIFIED:20190531T080509Z
UID:2449-1559289600-1572112800@kulturcheck.at
SUMMARY:Vertigo Op-Art
DESCRIPTION:
URL:https://kulturcheck.at/event/vertigo-op-art/
LOCATION:Mumok\, Museumsplatz 1\, 1010 Wien\, Wien\, 1010\, Österreich
ATTACH;FMTTYPE=image/png:https://kulturcheck.at/wp-content/uploads/2018/06/Kulturcheck_Logo.png
END:VEVENT
BEGIN:VEVENT
DTSTART;TZID=Europe/Berlin:20190801T200000
DTEND;TZID=Europe/Berlin:20190801T213000
DTSTAMP:20260425T224124
CREATED:20190801T085956Z
LAST-MODIFIED:20190801T085956Z
UID:2692-1564689600-1564695000@kulturcheck.at
SUMMARY:Eröffnungskonzert- Auf Orpheus' Spuren
DESCRIPTION:Werke von: W. A. Mozart\, B. Bartok\, S. Skalkottas und G. Arnaoudov \n 
URL:https://kulturcheck.at/event/eroeffnungskonzert-auf-orpheus-spuren/
LOCATION:Mariahilferkirche\, Barnabitengasse 14\, 1060 Wien\, Österreich
ATTACH;FMTTYPE=image/jpeg:https://kulturcheck.at/wp-content/uploads/2019/08/IMG_2874Orpheus_Tй_Maximilian_Pramatarov.jpg
END:VEVENT
BEGIN:VEVENT
DTSTART;TZID=Europe/Berlin:20190805T203000
DTEND;TZID=Europe/Berlin:20190805T230000
DTSTAMP:20260425T224124
CREATED:20190805T080236Z
LAST-MODIFIED:20190805T080236Z
UID:2700-1565037000-1565046000@kulturcheck.at
SUMMARY:JAZZ meets CLASSIC
DESCRIPTION:Werke von: A. Piazzolla\, M. Publig\, G. Gerschwin & M. Jackson
URL:https://kulturcheck.at/event/jazz-meets-classic/
LOCATION:Porgy & Bess\, Riemergasse 11\, Wien\, 1010\, Österreich
ATTACH;FMTTYPE=image/jpeg:https://kulturcheck.at/wp-content/uploads/2019/08/Orpheus_1-13.jpg
END:VEVENT
BEGIN:VEVENT
DTSTART;TZID=Europe/Berlin:20191002T193000
DTEND;TZID=Europe/Berlin:20191002T213000
DTSTAMP:20260425T224124
CREATED:20190928T092733Z
LAST-MODIFIED:20190928T093046Z
UID:2929-1570044600-1570051800@kulturcheck.at
SUMMARY:Lächle – The Spirit of Chaplin
DESCRIPTION:Das Lachen feiert 130.Geburtstag! Eine Benefizgala mit Charlie Chaplin’s Enkelin!\nDer Erlös der  Gala kommt caritativen Zwecken zugute!!! \n  \nFoto: Laura Chaplin \nUnser Beitrag darüber: \n130 Jahre Lachen \n \n  \n  \n 
URL:https://kulturcheck.at/event/laechle-the-spirit-of-chaplin/
LOCATION:Theater Akzent
ATTACH;FMTTYPE=image/jpeg:https://kulturcheck.at/wp-content/uploads/2019/08/Laura_Chaplin.jpg
END:VEVENT
BEGIN:VEVENT
DTSTART;TZID=Europe/Berlin:20191004T080000
DTEND;TZID=Europe/Berlin:20191201T170000
DTSTAMP:20260425T224124
CREATED:20191004T114732Z
LAST-MODIFIED:20191004T114732Z
UID:3031-1570176000-1575219600@kulturcheck.at
SUMMARY:Maria Lassnig
DESCRIPTION:
URL:https://kulturcheck.at/event/maria-lassnig/
ATTACH;FMTTYPE=image/png:https://kulturcheck.at/wp-content/uploads/2018/06/Kulturcheck_Logo.png
END:VEVENT
BEGIN:VEVENT
DTSTART;TZID=Europe/Berlin:20191004T080000
DTEND;TZID=Europe/Berlin:20200106T170000
DTSTAMP:20260425T224124
CREATED:20191004T113407Z
LAST-MODIFIED:20191004T114437Z
UID:3024-1570176000-1578330000@kulturcheck.at
SUMMARY:Albrecht Dürer
DESCRIPTION:Albrecht Dürer
URL:https://kulturcheck.at/event/3024/
LOCATION:Albertina\, Albertinapl.1\, Wien\, 1010\, Österreich
ATTACH;FMTTYPE=image/png:https://kulturcheck.at/wp-content/uploads/2018/06/Kulturcheck_Logo.png
END:VEVENT
BEGIN:VEVENT
DTSTART;TZID=Europe/Berlin:20191004T080000
DTEND;TZID=Europe/Berlin:20200112T170000
DTSTAMP:20260425T224124
CREATED:20191004T115327Z
LAST-MODIFIED:20191004T115327Z
UID:3037-1570176000-1578848400@kulturcheck.at
SUMMARY:Made in Denmark
DESCRIPTION:
URL:https://kulturcheck.at/event/made-in-denmark/
LOCATION:Hofmobiliendepot\, Andreasgasse 7\, 1070\, Wien\, Wien\, 1070\, Österreich
ATTACH;FMTTYPE=image/png:https://kulturcheck.at/wp-content/uploads/2018/06/Kulturcheck_Logo.png
END:VEVENT
END:VCALENDAR